BEGIN:VCALENDAR
VERSION:2.0
PRODID:icalendar-ruby
CALSCALE:GREGORIAN
METHOD:PUBLISH
BEGIN:VEVENT
DTSTAMP:20260419T220840Z
UID:7-311260@firstbaptist225.tithelysetup2.com
DTSTART:20260630T180000Z
DTEND:20260702T190000Z
CLASS:PUBLIC
CREATED:20260417T105358
DESCRIPTION:
LAST-MODIFIED:20260417T105358
LOCATION:
SUMMARY:VBS
URL;VALUE=URI:https://firstbaptist225.tithelysetup2.com/events/vbs/2026-06-
 30
ATTACH;FILENAME=aoV0.jpg;FMTTYPE=image/jpeg:https://dq5pwpg1q8ru0.cloudfron
 t.net/2026/04/17/17/53/57/c410a1f7-e166-4f85-8e12-f0cc2bcbff53/aoV0.jpg
END:VEVENT
END:VCALENDAR
