BEGIN:VCALENDAR
VERSION:2.0
PRODID:icalendar-ruby
CALSCALE:GREGORIAN
METHOD:PUBLISH
BEGIN:VEVENT
DTSTAMP:20260423T071536Z
UID:6-311255@firstbaptist225.tithelysetup2.com
DTSTART:20260906T173000Z
DTEND:20260906T183000Z
CLASS:PUBLIC
CREATED:20260318T083605
DESCRIPTION:
LAST-MODIFIED:20260318T083605
LOCATION:
SUMMARY:Sunday Worship
URL;VALUE=URI:https://firstbaptist225.tithelysetup2.com/events/sunday-worsh
 ip/2026-09-06
ATTACH;FILENAME=Gray-and-White-Simple-Sunday-Worship-YouTube-Thumbnail.png;
 FMTTYPE=image/png:https://dq5pwpg1q8ru0.cloudfront.net/2026/02/19/01/28/14
 /b043f283-eb8b-4311-890f-8fe16e0cc219/Gray-and-White-Simple-Sunday-Worship
 -YouTube-Thumbnail.png
END:VEVENT
END:VCALENDAR
